BEGIN:VCALENDAR
VERSION:2.0
PRODID:-//Barbados Financial Intelligence Unit - ECPv5.8.1//NONSGML v1.0//EN
CALSCALE:GREGORIAN
METHOD:PUBLISH
X-WR-CALNAME:Barbados Financial Intelligence Unit
X-ORIGINAL-URL:https://barbadosfiu.gov.bb
X-WR-CALDESC:Events for Barbados Financial Intelligence Unit
BEGIN:VTIMEZONE
TZID:UTC
BEGIN:STANDARD
TZOFFSETFROM:+0000
TZOFFSETTO:+0000
TZNAME:UTC
DTSTART:20190101T000000
END:STANDARD
END:VTIMEZONE
BEGIN:VEVENT
DTSTART;TZID=UTC:20191003T140000
DTEND;TZID=UTC:20191003T160000
DTSTAMP:20210814T151311
CREATED:20190923T142627Z
LAST-MODIFIED:20190930T170811Z
UID:751-1570111200-1570118400@barbadosfiu.gov.bb
SUMMARY:“Anti-Money Laundering/ Counter-Financing of Terrorism Measures for Real Estate Agents: What You Need to Know & Why You Need To Care”
DESCRIPTION:This session is for all Real Estate Agents : Both members & non-members of BEAVA. \nMembers: $25.00. \nNon-Members: $60.00  If registered for this Seminar before Sept. 30th. Module Payments at the door. \nAll registrations after the 30th  (Including appearing at the door on the day of the module): $10.00 More. (Subject to availability.) \nKindly email admin@beavainc.com to register your attendance. \nPlease note that all monies go to the Barbados Estate and Valuers’ Association and not to the FIU.
URL:https://barbadosfiu.gov.bb/event/anti-money-laundering-counter-financing-of-terrorism-measures-for-real-estate-agents-what-you-need-to-know-why-you-need-to-care/
LOCATION:Barbados Yacth Club\, Bay Street\, Bridgetown\, St. Michael\, Barbados
ORGANIZER;CN="The%20Barbados%20Estate%20Agents%20and%20Valuers%E2%80%99%20Association":MAILTO:admin@beavainc.com 
END:VEVENT
END:VCALENDAR